BEGIN:VCALENDAR
VERSION:2.0
PRODID:KKTIX
CALSCALE:GREGORIAN
METHOD:PUBLISH
BEGIN:VTIMEZONE
TZID:Asia/Taipei
END:VTIMEZONE
BEGIN:VEVENT
DTSTAMP:20260425T212945Z
UID:f02f15b4-a5cf-488a-84ea-84dc242ae763
DTSTART:20140809T010000Z
DTEND:20140809T080000Z
CLASS:PUBLIC
DESCRIPTION:https://248.kktix.cc/events/86cafdea-2e5bf8-2d2848
LOCATION: (新北市貢寮區吉林里山區) 阿先小農田（新北市
 貢寮區吉林里山區）
SUMMARY:【回到土地】產地之旅-5   相揪來割稻「新北貢寮
 篇」-第二彈 8/9
END:VEVENT
END:VCALENDAR
