BEGIN:VCALENDAR
VERSION:2.0
PRODID:KKTIX
CALSCALE:GREGORIAN
METHOD:PUBLISH
BEGIN:VTIMEZONE
TZID:Asia/Taipei
END:VTIMEZONE
BEGIN:VEVENT
DTSTAMP:20260425T213333Z
UID:9bf6e677-a9b3-46f7-9407-8daab035d335
DTSTART:20150425T003000Z
DTEND:20150425T080000Z
CLASS:PUBLIC
DESCRIPTION:https://248.kktix.cc/events/86cafdea-2e5bf8-5f6c2f
LOCATION: (新北市貢寮區吉林里山區) 阿先小農田（新北市
 貢寮區吉林里山區）
SUMMARY:【回到土地】產地之旅-5   相揪來割稻「新北貢寮
 篇」
END:VEVENT
END:VCALENDAR
