BEGIN:VCALENDAR
VERSION:2.0
PRODID:KKTIX
CALSCALE:GREGORIAN
METHOD:PUBLISH
BEGIN:VTIMEZONE
TZID:Asia/Taipei
END:VTIMEZONE
BEGIN:VEVENT
DTSTAMP:20260425T212924Z
UID:b12b1124-c9e7-40fe-b6af-0fae4a2b970f
DTSTART:20140802T010000Z
DTEND:20140802T080000Z
CLASS:PUBLIC
DESCRIPTION:https://248.kktix.cc/events/86cafdea-2e5bf8
LOCATION: (新北市貢寮區吉林里山區) 阿先小農田（新北市
 貢寮區吉林里山區）
SUMMARY:【回到土地】產地之旅-5   相揪來割稻「新北貢寮
 篇」
END:VEVENT
END:VCALENDAR
