BEGIN:VCALENDAR
VERSION:2.0
PRODID:KKTIX
CALSCALE:GREGORIAN
METHOD:PUBLISH
BEGIN:VTIMEZONE
TZID:Asia/Taipei
END:VTIMEZONE
BEGIN:VEVENT
DTSTAMP:20260425T182018Z
UID:f85ad877-0e90-4c0c-b3ee-4c17f8de6d8e
DTSTART:20140531T000000Z
DTEND:20140531T080000Z
CLASS:PUBLIC
DESCRIPTION:https://248.kktix.cc/events/86cafdea
LOCATION: (新北市土城區和平路236號/土城彈藥庫內) 輝要無
 毒の菜園
SUMMARY:【回到土地】產地之旅-3   相揪來種菜「土城彈藥
 庫篇」
END:VEVENT
END:VCALENDAR
