BEGIN:VCALENDAR
VERSION:2.0
PRODID:KKTIX
CALSCALE:GREGORIAN
METHOD:PUBLISH
BEGIN:VTIMEZONE
TZID:Asia/Taipei
END:VTIMEZONE
BEGIN:VEVENT
DTSTAMP:20260425T212924Z
UID:2646ba65-9700-4dcf-a45d-28eb0d85674f
DTSTART:20140509T010000Z
DTEND:20140512T100000Z
CLASS:PUBLIC
DESCRIPTION:https://248.kktix.cc/events/cc23629c-ba54c1
LOCATION:
SUMMARY:abc
END:VEVENT
END:VCALENDAR
